BEGIN:VCALENDAR
VERSION:2.0
PRODID:-//Änne-Meier-Schule - ECPv6.10.3//NONSGML v1.0//EN
CALSCALE:GREGORIAN
METHOD:PUBLISH
X-ORIGINAL-URL:https://www.aenne-meier-schule.de
X-WR-CALDESC:Veranstaltungen für Änne-Meier-Schule
REFRESH-INTERVAL;VALUE=DURATION:PT1H
X-Robots-Tag:noindex
X-PUBLISHED-TTL:PT1H
BEGIN:VTIMEZONE
TZID:Europe/Paris
BEGIN:DAYLIGHT
TZOFFSETFROM:+0100
TZOFFSETTO:+0200
TZNAME:CEST
DTSTART:20240331T010000
END:DAYLIGHT
BEGIN:STANDARD
TZOFFSETFROM:+0200
TZOFFSETTO:+0100
TZNAME:CET
DTSTART:20241027T010000
END:STANDARD
END:VTIMEZONE
BEGIN:VEVENT
DTSTART;TZID=Europe/Paris:20241205T170000
DTEND;TZID=Europe/Paris:20241205T170000
DTSTAMP:20260425T172514
CREATED:20241205T093716Z
LAST-MODIFIED:20241205T093716Z
UID:180-1733418000-1733418000@www.aenne-meier-schule.de
SUMMARY:Test
DESCRIPTION:Test
URL:https://www.aenne-meier-schule.de/termin/test/
END:VEVENT
END:VCALENDAR